BEGIN:VCALENDAR
VERSION:2.0
PRODID:-//Drive Your Shit - ECPv6.15.20//NONSGML v1.0//EN
CALSCALE:GREGORIAN
METHOD:PUBLISH
X-ORIGINAL-URL:https://driveyourshit.co
X-WR-CALDESC:Events for Drive Your Shit
REFRESH-INTERVAL;VALUE=DURATION:PT1H
X-Robots-Tag:noindex
X-PUBLISHED-TTL:PT1H
BEGIN:VTIMEZONE
TZID:UTC
BEGIN:STANDARD
TZOFFSETFROM:+0000
TZOFFSETTO:+0000
TZNAME:UTC
DTSTART:20200101T000000
END:STANDARD
END:VTIMEZONE
BEGIN:VEVENT
DTSTART;TZID=UTC:20220326T130000
DTEND;TZID=UTC:20220326T190000
DTSTAMP:20260423T154053
CREATED:20211216T230029Z
LAST-MODIFIED:20211216T232229Z
UID:1372-1648299600-1648321200@driveyourshit.co
SUMMARY:C10's at The Ranch 03.26.22
DESCRIPTION:Part II\nJoin us March 26\, 2022 2p – 7p for a family friendly (FREE to spectators) event filled with Beautiful Trucks\, Food\, Vendors\, Games/Raffles and lots of fun! But the fun won’t end after the show\, come back out Sunday morning for a cruise to the iconic Vasquez Rocks.\n \nRoll in at 1pm\, Gates open to the public at 2pm\nTruck Registration begins Dec 20\, 2021 \nSponsors\, Award Categories\, Raffles\, Vendors to be announced\n\nBe sure to follow us on social media for more details to come!\nThis is an event you won’t want to miss #IYKYK \n@c10attheranch
URL:https://driveyourshit.co/event/c10s-at-the-ranch-03-26-22/
LOCATION:Casa Fernandez Ranch\, 10540 Sierra Hwy\, Agua Dulce\, CA\, 91390\, United States
ATTACH;FMTTYPE=image/jpeg:https://driveyourshit.co/wp-content/uploads/2021/12/c10attheranch-banner-copy-scaled.jpg
ORGANIZER;CN="The Vintage Vibes LLC":MAILTO:info@c10attheranch.com
END:VEVENT
BEGIN:VEVENT
DTSTART;TZID=UTC:20210327T150000
DTEND;TZID=UTC:20210327T200000
DTSTAMP:20260423T154053
CREATED:20210318T195324Z
LAST-MODIFIED:20210326T205843Z
UID:1103-1616857200-1616875200@driveyourshit.co
SUMMARY:C10's at The Ranch
DESCRIPTION:C10’s at The Ranch  \nYou don’t want to miss this… \nC10’s at The Ranch  \nSaturday March 27  \nMusic by DJ Malechin  \nHosted by Carolina Marquez  \nwith our special guest Chelada Guey  \nMusic – Raffle – Food and More \nTents and chairs welcome.\n“BYOB”“NO BBQ GRILLS ALLOWED” \nFOOD WILL BE PROVIDED!  \ninfo at www.DriveYourShit.Co  \nBrought to you by Drive Your Shit and United Classic Events   \nC10’s at The Ranch  \nNot your ordinary Saturday  \nGates open at 3pm to 8pm \nPlease respect the spot.  \nThe ranch is Private property\, “Family home on this location” \nWe ask as a favor to please help us keep the place clean as it was found.  \nSmiles welcome\, positive vibes only!  \nABSOLUTELY “NO BURNOUTS” \n  \n \n \nStay tuned for more details… \n 
URL:https://driveyourshit.co/event/c10s-at-the-ranch/
LOCATION:Casa Fernandez Ranch\, 10540 Sierra Hwy\, Agua Dulce\, CA\, 91390\, United States
ATTACH;FMTTYPE=image/jpeg:https://driveyourshit.co/wp-content/uploads/2021/03/C10s-at-The-Ranch-banner-4x3-1.jpg
ORGANIZER;CN="DRIVE YOUR SHIT":MAILTO:info@thevintagevibesco.com
END:VEVENT
END:VCALENDAR